BEGIN:VCALENDAR
VERSION:2.0
PRODID:-//Museo del Aceite Fermoselle
CALSCALE:GREGORIAN
METHOD:PUBLISH
X-WR-CALNAME:Museo del Aceite Fermoselle
X-ORIGINAL-URL:https://museodelaceitefermoselle.com/producto/1830-cafe-montetoro-frutos-secos-dibel-cata-y-taller-de-cafes-y-frutos-secos-de-verdad-sabado/
X-WR-CALDESC:18:30 – Café Montetoro &#038; Frutos secos Dibel, Cata y taller de Cafés y Frutos Secos de verdad (SÁBADO)
BEGIN:VTIMEZONE
TZID:Europe/Helsinki
END:VTIMEZONE
BEGIN:VEVENT
DTSTART;TZID=Europe/Helsinki:20260725T183000
DTEND;TZID=Europe/Helsinki:20260725T200000
DTSTAMP:20260423T191339
UID:1583-diego.ramos@elpangolin.com
SUMMARY:18:30 – Café Montetoro & Frutos secos Dibel, Cata y taller de Cafés y Frutos Secos de verdad (SÁBADO)
DESCRIPTION:Cafés Montetoro &amp; Frutos secos Dibel, Cata y taller de Cafés y Frutos Secos de verdad. Descubre un mundo de sabores en un taller diferente y muy especial. Exploraremos la calidad y el proceso artesanal detrás de los frutos secos Dibel, reconocidos por su sabor auténtico y sostenible, y nos adentraremos en el fascinante universo del café con Cafés Montetoro. Conoceremos las plantas de café,  conoceremos los diferentes tuestes de los granos con cuidado y probaremos diferentes variedades, en una experiencia sensorial que combina tradición, sabor y sostenibilidad. ¡Un taller único para los amantes del buen comer y la cultura del café! La visita incluye: Recepción, visita guiada a puerta cerrada y Taller de Cafés Montetoro &amp; Frutos secos Dibel, Frutos Secos de verdad . Presentación de Dibel y Café Montetoro. Cata, curiosidades y taller Dibel Frutos secos y Cafés Montetoro. Catering Completo / Vino español. Consumición,  agua, refresco o vino. Duración aproximada de 2 horas *Una vez realizada la compra, no se devolverá el importe de la misma salvo cancelación de la visita por parte del Museo del Aceite de Fermoselle.
URL:https://museodelaceitefermoselle.com/producto/1830-cafe-montetoro-frutos-secos-dibel-cata-y-taller-de-cafes-y-frutos-secos-de-verdad-sabado/
LOCATION:C. Cuatro Calles, 32. 49220 - Fermoselle, Zamora
END:VEVENT
END:VCALENDAR
