BEGIN:VCALENDAR
VERSION:2.0
PRODID:-//Museo del Aceite Fermoselle
CALSCALE:GREGORIAN
METHOD:PUBLISH
X-WR-CALNAME:Museo del Aceite Fermoselle
X-ORIGINAL-URL:https://museodelaceitefermoselle.com/producto/1830-mermelada-artesanal-oh-sauco-elaboracion-y-cata-de-mermeladas-artesanassabado/
X-WR-CALDESC:18:30 – Mermelada Artesanal OH Sauco! , Elaboración y Cata de Mermeladas Artesanas(SÁBADO)
BEGIN:VTIMEZONE
TZID:Europe/Helsinki
END:VTIMEZONE
BEGIN:VEVENT
DTSTART;TZID=Europe/Helsinki:20260704T183000
DTEND;TZID=Europe/Helsinki:20260704T200000
DTSTAMP:20260423T204638
UID:1581-diego.ramos@elpangolin.com
SUMMARY:18:30 – Mermelada Artesanal OH Sauco! , Elaboración y Cata de Mermeladas Artesanas(SÁBADO)
DESCRIPTION:Mermelada Artesanal OH Sauco! , Elaboración y Cata de Mermeladas Artesanales. Desde hace 15 años Teresa Cotorruelo, prepara mermeladas artesanas en los Arribes zamoranos. En este taller, no solo elaboramos mermeladas, chutneys y confituras con mucho amor, sino que también te invitamos a vivir una experiencia única de cata y creación. Aquí podrás descubrir sabores sorprendentes, aprender recetas nuevas y dar rienda suelta a tu creatividad. ¡Ven a compartir nuestra pasión por la buena cocina y los productos de temporada! La visita incluye: Recepción, visita guiada a puerta cerrada y taller de Mermelada Artesanal OH Sauco! , Elaboración y Cata de Mermeladas Artesanas. Presentación de Oh Saúco Mermeladas Artesanales. Cata, curiosidades y taller Oh Saúco Mermeladas Artesanales. Catering Completo / Vino español. Consumición,  agua, refresco o vino. Duración aproximada de 2 horas *Una vez realizada la compra, no se devolverá el importe de la misma salvo cancelación de la visita por parte del Museo del Aceite de Fermoselle.
URL:https://museodelaceitefermoselle.com/producto/1830-mermelada-artesanal-oh-sauco-elaboracion-y-cata-de-mermeladas-artesanassabado/
LOCATION:C. Cuatro Calles, 32. 49220 - Fermoselle, Zamora
END:VEVENT
END:VCALENDAR
