BEGIN:VCALENDAR
VERSION:2.0
PRODID:-//Museo del Aceite Fermoselle
CALSCALE:GREGORIAN
METHOD:PUBLISH
X-WR-CALNAME:Museo del Aceite Fermoselle
X-ORIGINAL-URL:https://museodelaceitefermoselle.com/producto/1830-bendita-locura-taller-de-elaboracion-y-cata-de-vermu-sabado/
X-WR-CALDESC:18:30 – Bendita Locura Taller de Elaboración de tú vermú y cata (SÁBADO)
BEGIN:VTIMEZONE
TZID:Europe/Helsinki
END:VTIMEZONE
BEGIN:VEVENT
DTSTART;TZID=Europe/Helsinki:20260808T183000
DTEND;TZID=Europe/Helsinki:20260808T200000
DTSTAMP:20260423T191343
UID:1575-diego.ramos@elpangolin.com
SUMMARY:18:30 – Bendita Locura Taller de Elaboración de tú vermú y cata (SÁBADO)
DESCRIPTION:Taller de elaboración de vermú BENDITA LOCURA &amp; cata. Ven a pasar un rato único con Toño y Miki de Bendita Locura y te enseñaremos como se elabora este sensacional vermut, paso a paso. Después de la visita al museo, en nuestro aula de catas ya tendrás a tu disposición los utensilios para crear tu vermut personalizado: el vino, el alcohol, los extractos botánicos para crear su perfil aromático, el caramelo de mosto para darle el color… después podrás embotellarlo y etiquetarlo para asombrar a tus amistades y vean el maestro vermutero que llevas dentro. La visita incluye: Recepción, visita guiada a puerta cerrada y Bendita Locura Taller de Elaboración y cata de Vermú. Presentación de Bendita Locura Vermú. Cata, curiosidades y Taller de Elaboración y cata de Vermú Bendita Locura. Catering Completo / Vino español. Consumición,  agua, refresco o vino. Duración aproximada de 2 horas *Una vez realizada la compra, no se devolverá el importe de la misma salvo cancelación de la visita por parte del Museo del Aceite de Fermoselle.
URL:https://museodelaceitefermoselle.com/producto/1830-bendita-locura-taller-de-elaboracion-y-cata-de-vermu-sabado/
LOCATION:C. Cuatro Calles, 32. 49220 - Fermoselle, Zamora
END:VEVENT
END:VCALENDAR
