BEGIN:VCALENDAR
VERSION:2.0
PRODID:-//Museo del Aceite Fermoselle
CALSCALE:GREGORIAN
METHOD:PUBLISH
X-WR-CALNAME:Museo del Aceite Fermoselle
X-ORIGINAL-URL:https://museodelaceitefermoselle.com/producto/1830-wine-mixologyvinos-americo-taller-de-cocteleria-con-vino-y-cata-de-vinos-americosabado/
X-WR-CALDESC:18:30 – Wine Mixology&#038;Vinos Americo, Taller de Coctelería con Vino y Cata de Vinos Americo(SÁBADO)
BEGIN:VTIMEZONE
TZID:Europe/Helsinki
END:VTIMEZONE
BEGIN:VEVENT
DTSTART;TZID=Europe/Helsinki:20260801T183000
DTEND;TZID=Europe/Helsinki:20260801T200000
DTSTAMP:20260423T191339
UID:1573-diego.ramos@elpangolin.com
SUMMARY:18:30 – Wine Mixology&Vinos Americo, Taller de Coctelería con Vino y Cata de Vinos Americo(SÁBADO)
DESCRIPTION:Wine Mixology &amp; Vinos Americo (Toro), Taller de Coctelería con Vino y Cata de Vinos Americo. ¿Alguna vez has imaginado que el vino puede ser mucho más que una copa? En este taller, descubrirás un mundo diferente, único y lleno de sorpresas, justo como todo lo que pasa en el Museo del Aceite de Fermoselle. ¡Y no te lo puedes perder por nada! Vas a flipar. Este taller combina la creatividad, la imaginación y el placer de una manera que nunca habías experimentado. Aprenderás a crear cócteles con vino, ¡sí, con vino! y te sorprenderás con las experiencias que podrás vivir en tu propia copa. Es el taller por excelencia en el mundo del vino y la coctelería, y ya han disfrutado de él grandes eventos y espacios como Madrid Gourmet, Barcelona Wine Week, Prowine, y universidades como el Basque Culinary Center. Lo que hace especial a este taller es que el vino no termina en la copa. Aquí aprenderás a explorar nuevas formas de disfrutarlo, mezclándolo con otros ingredientes y dejando volar tu imaginación. Es una oportunidad para descubrir todo lo que se puede hacer con el vino, en un ambiente divertido, cercano y lleno de entusiasmo. ¿Listo para vivir una experiencia inolvidable? Ven, disfruta, crea y déjate sorprender. Porque el vino y la creatividad no tienen límites, y en este taller, tú serás el protagonista de tu propia historia líquida. ¡Te esperamos para que vivas algo que va a dar mucho que hablar! La visita incluye: Recepción, visita guiada a puerta cerrada y taller de Wine Mixology &amp; Vinos Americo. Presentación de Wine Mixology &amp; Vinos Americo BODEGAS DIEZ GOMEZ. Cata, curiosidades y taller Wine Mixology y vinos Americo. Catering Completo / Vino español. Consumición,  agua, refresco o vino. Duración aproximada de 2 horas *Una vez realizada la compra, no se devolverá el importe de la misma salvo cancelación de la visita por parte del Museo del Aceite de Fermoselle. &nbsp; &nbsp;
URL:https://museodelaceitefermoselle.com/producto/1830-wine-mixologyvinos-americo-taller-de-cocteleria-con-vino-y-cata-de-vinos-americosabado/
LOCATION:C. Cuatro Calles, 32. 49220 - Fermoselle, Zamora
END:VEVENT
END:VCALENDAR
