BEGIN:VCALENDAR
VERSION:2.0
PRODID:-//Museo del Aceite Fermoselle
CALSCALE:GREGORIAN
METHOD:PUBLISH
X-WR-CALNAME:Museo del Aceite Fermoselle
X-ORIGINAL-URL:https://museodelaceitefermoselle.com/producto/1830-miel-prado-concejo-taller-y-cata-de-mieles-sabado/
X-WR-CALDESC:18:30 – Miel Prado Concejo , Taller y Cata de Mieles (SÁBADO)
BEGIN:VTIMEZONE
TZID:Europe/Helsinki
END:VTIMEZONE
BEGIN:VEVENT
DTSTART;TZID=Europe/Helsinki:20260711T183000
DTEND;TZID=Europe/Helsinki:20260711T200000
DTSTAMP:20260423T191343
UID:1570-diego.ramos@elpangolin.com
SUMMARY:18:30 – Miel Prado Concejo , Taller y Cata de Mieles (SÁBADO)
DESCRIPTION:MIEL Prado Concejo , Taller y Cata de Mieles. ¡Prepárate para vivir una experiencia inolvidable en el Taller de Miel Prado Concejo! Imagínense adentrarse en un mundo mágico donde la naturaleza y el amor por las abejas se unen para crear algo realmente especial. Desde el momento en que lleguen, se sentirán parte de una familia apasionada, comprometida con el medio ambiente y con la cultura rural que nos rodea. Este taller es mucho más que una simple visita; es una oportunidad única para conocer en vivo y en directo el fascinante universo de las abejas de la mano de un experto. Con trajes especiales y en un ambiente cercano, verán una colmena en acción y descubrirán los secretos que hacen de las abejas unas auténticas guardianas del ecosistema. Además, podrán extraer su propia miel, que se llevarán a casa como recuerdo de este momento tan especial. Pero eso no es todo: disfrutarán de una cata de mieles monoflorales, provenientes de nuestra Reserva de la Biosfera en Fonfría, donde cada gota refleja el terroir único de nuestros montes de Roble y Encina, certificados con el sello ecológico. Será un recorrido sensorial que les permitirá conectar con la naturaleza y entender la importancia de cuidar y respetar la vida de las abejas. Este taller, impulsado por una familia que vive en armonía con la naturaleza y que apuesta por la sostenibilidad y la tradición, promete ser una experiencia espectacular y llena de aprendizaje para todos.  ¡No pierdan la oportunidad de vivir algo único, lleno de magia, conocimientos y sabores auténticos! La visita incluye: Recepción, visita guiada a puerta cerrada y taller de MIEL Prado Concejo y Cata de Mieles. Presentación de MIEL Prado Concejo. Cata, curiosidades y taller MIEL Prado Concejo y Cata de Mieles. Catering Completo / Vino español. Consumición,  agua, refresco o vino. Duración aproximada de 2 horas *Una vez realizada la compra, no se devolverá el importe de la misma salvo cancelación de la visita por parte del Museo del Aceite de Fermoselle.
URL:https://museodelaceitefermoselle.com/producto/1830-miel-prado-concejo-taller-y-cata-de-mieles-sabado/
LOCATION:C. Cuatro Calles, 32. 49220 - Fermoselle, Zamora
END:VEVENT
END:VCALENDAR
