BEGIN:VCALENDAR
VERSION:2.0
PRODID:-//Museo del Aceite Fermoselle
CALSCALE:GREGORIAN
METHOD:PUBLISH
X-WR-CALNAME:Museo del Aceite Fermoselle
X-ORIGINAL-URL:https://museodelaceitefermoselle.com/producto/1830-ginvega-ginebras-premium-cocteleria-y-cata-de-licores-sabado/
X-WR-CALDESC:18:30 – GinVega Ginebras Premium, Cocteleria y Cata de Licores (SÁBADO)
BEGIN:VTIMEZONE
TZID:Europe/Helsinki
END:VTIMEZONE
BEGIN:VEVENT
DTSTART;TZID=Europe/Helsinki:20260627T183000
DTEND;TZID=Europe/Helsinki:20260627T200000
DTSTAMP:20260423T191343
UID:1568-diego.ramos@elpangolin.com
SUMMARY:18:30 – GinVega Ginebras Premium, Cocteleria y Cata de Licores (SÁBADO)
DESCRIPTION:GinVega Ginebras Premium, Cocteleria y Cata de Licores. ¡Bienvenidos a una experiencia única y muy especial! En nuestro taller de Ginebras Premium GinVega y licores, el abuelo de Vega, una tradición que empezó en 1938 en Vega de Tera, Zamora, cobra vida en un ambiente cercano, familiar y lleno de historia. Aquí, aprenderás a preparar tu propia ginebra, como si fueras un auténtico coctelero, descubriendo trucos y secretos que han pasado de generación en generación. Desde los orígenes de nuestra familia, que con paciencia, esfuerzo y mucho cariño han transformado la tradición artesanal en una marca que hoy en día representa calidad y alma, te guiaremos a través del fascinante mundo de las ginebras, desde su inicio con ingredientes locales hasta que llegan en su mejor versión a la botella. Además, podrás catar algunos de los mejores licores de la provincia y entender cómo se elaboran con tanto amor y dedicación. Este taller no solo es una oportunidad para aprender a preparar un excelente gin, sino también para conectar con una historia familiar llena de pasión, tradición y esfuerzo. ¡No pierdas la oportunidad de ser parte de esta experiencia. La visita incluye: Recepción, visita guiada a puerta cerrada y Taller de GinVega Ginebras Premium. Presentación de GinVega Ginebras Premium. Cata, curiosidades y taller Ginebras y cata de licores. Catering Completo / Vino español. Consumición,  agua, refresco o vino. Duración aproximada de 2 horas. *Una vez realizada la compra, no se devolverá el importe de la misma salvo cancelación de la visita por parte del Museo del Aceite de Fermoselle. &nbsp;
URL:https://museodelaceitefermoselle.com/producto/1830-ginvega-ginebras-premium-cocteleria-y-cata-de-licores-sabado/
LOCATION:C. Cuatro Calles, 32. 49220 - Fermoselle, Zamora
END:VEVENT
END:VCALENDAR
