BEGIN:VCALENDAR
VERSION:2.0
PRODID:-//Museo del Aceite Fermoselle
CALSCALE:GREGORIAN
METHOD:PUBLISH
X-WR-CALNAME:Museo del Aceite Fermoselle
X-ORIGINAL-URL:https://museodelaceitefermoselle.com/producto/1830-taller-de-chocolate-artesano-refart-sabado/
X-WR-CALDESC:18:30 – Taller de Chocolate Artesano REFART (SÁBADO)
BEGIN:VTIMEZONE
TZID:Europe/Helsinki
END:VTIMEZONE
BEGIN:VEVENT
DTSTART;TZID=Europe/Helsinki:20260620T000000
DTEND;TZID=Europe/Helsinki:20260620T000000
DTSTAMP:20260423T191338
UID:1567-diego.ramos@elpangolin.com
SUMMARY:18:30 – Taller de Chocolate Artesano REFART (SÁBADO)
DESCRIPTION:TALLER DEL CHOCOLATE ARTESANO REFART. ¡Ven y vive una experiencia única en nuestro taller artesanal de elaboración de chocolate y el fascinante mundo del cacao! Desde sus orígenes ancestrales hasta su proceso de transformación en delicioso chocolate, te llevaremos en un recorrido interactivo donde podrás aprender sobre la historia, las culturas y las técnicas tradicionales que hacen del cacao un tesoro mundial. Durante el taller, los participantes tendrán la oportunidad de participar activamente en la elaboración en vivo del chocolate, aprendiendo cada paso del proceso y poniendo en práctica sus habilidades. Además, podrás interactuar con los expertos, hacer preguntas y compartir tus impresiones, haciendo de esta experiencia algo memorable y enriquecedor. ¡No te pierdas esta oportunidad de acercarte al mundo del cacao de manera artesanal y participativa! Te esperamos para disfrutar, aprender y crear juntos en un ambiente lleno de sabor y cultura. La visita incluye: Recepción, visita guiada a puerta cerrada y Taller de Chocolate Artesano REFART. Presentación de Chocolate Artesano REFART. Cata, curiosidades y taller de elaboración de chocolate. Catering Completo / Vino español. Consumición,  agua, refresco o vino. Duración aproximada de 2 horas. *Una vez realizada la compra, no se devolverá el importe de la misma salvo cancelación de la visita por parte del Museo del Aceite de Fermoselle.
URL:https://museodelaceitefermoselle.com/producto/1830-taller-de-chocolate-artesano-refart-sabado/
LOCATION:C. Cuatro Calles, 32. 49220 - Fermoselle, Zamora
END:VEVENT
END:VCALENDAR
