BEGIN:VCALENDAR
VERSION:2.0
PRODID:-//Museo del Aceite Fermoselle
CALSCALE:GREGORIAN
METHOD:PUBLISH
X-WR-CALNAME:Museo del Aceite Fermoselle
X-ORIGINAL-URL:https://museodelaceitefermoselle.com/producto/1830-taller-de-chocolate-artesanal-y-ecologico-tierra-dulce-sabado/
X-WR-CALDESC:18:30 &#8211; Taller de Chocolate Artesanal y Ecológico TIERRA DULCE (SÁBADO)
BEGIN:VTIMEZONE
TZID:Europe/Helsinki
END:VTIMEZONE
BEGIN:VEVENT
DTSTART;TZID=Europe/Helsinki:20260613T183000
DTEND;TZID=Europe/Helsinki:20260613T200000
DTSTAMP:20260423T191339
UID:1564-diego.ramos@elpangolin.com
SUMMARY:18:30 – Taller de Chocolate Artesanal y Ecológico TIERRA DULCE (SÁBADO)
DESCRIPTION:Taller de Chocolate Artesanal y Ecológico TIERRA DULCE. ¡Bienvenidos a una experiencia muy especial, llena de historia, tradición y mucho amor por el buen chocolate! En nuestro taller, no solo aprenderás a elaborar tus propios chocolates ecológicos y artesanales, sino que también te sumergirás en un recorrido fascinante por la historia del cacao, esa semilla mágica que ha unido a culturas y generaciones a lo largo de los siglos. Este no es un simple taller, sino una experiencia que te conecta con la tradición, la cultura y el sabor auténtico del chocolate. Desde la selección de ingredientes hasta la creación de las piezas, sentirás que estás participando en una historia viva, en la que tú también formas parte de una cadena que respeta y cuida nuestro entorno. Este taller ha sido especialmente pensado para quienes valoran lo auténtico, lo ecológico y lo artesanal, y queremos que sepas que, al elegir hacerlo en el Museo del Aceite de Fermoselle, estás apoyando a productores locales que apuestan por un mundo más sostenible y por preservar nuestras tradiciones. ¡Ven y vive esta experiencia única! Te aseguramos que saldrás con nuevos conocimientos, sabores inolvidables y el orgullo de haber creado algo muy especial, respetuoso con nuestro planeta y lleno de historia y cariño. ¡Te esperamos con los brazos abiertos para compartir juntos esta dulce aventura. La visita incluye: Recepción, visita guiada a puerta cerrada y Taller de Chocolate Artesanal y Ecológico TIERRA DULCE. Presentación de Chocolate Artesanal y Ecológico TIERRA DULCE. Cata, curiosidades y taller de elaboración de chocolate. Catering Completo / Vino español. Consumición,  agua, refresco o vino. Duración aproximada de 2 horas &nbsp; *Una vez realizada la compra, no se devolverá el importe de la misma salvo cancelación de la visita por parte del Museo del Aceite de Fermoselle.
URL:https://museodelaceitefermoselle.com/producto/1830-taller-de-chocolate-artesanal-y-ecologico-tierra-dulce-sabado/
LOCATION:C. Cuatro Calles, 32. 49220 - Fermoselle, Zamora
END:VEVENT
END:VCALENDAR
