BEGIN:VCALENDAR
VERSION:2.0
PRODID:-//Museo del Aceite Fermoselle
CALSCALE:GREGORIAN
METHOD:PUBLISH
X-WR-CALNAME:Museo del Aceite Fermoselle
X-ORIGINAL-URL:https://museodelaceitefermoselle.com/producto/1830-enzamorate-taller-de-te-matcha-e-infusiones-sabado/
X-WR-CALDESC:18:30 &#8211; EnZamoraTé , Taller de té, Matcha e Infusiones (SÁBADO)
BEGIN:VTIMEZONE
TZID:Europe/Helsinki
END:VTIMEZONE
BEGIN:VEVENT
DTSTART;TZID=Europe/Helsinki:20260606T183000
DTEND;TZID=Europe/Helsinki:20260606T200000
DTSTAMP:20260423T192710
UID:1559-diego.ramos@elpangolin.com
SUMMARY:18:30 – EnZamoraTé , Taller de té, Matcha e Infusiones (SÁBADO)
DESCRIPTION:EnZamoraTé , Taller de té, Matcha e Infusiones. enZamoraTé es un proyecto que nace de la fusión entre la cultura, las tradiciones y el alma del territorio. Una iniciativa que revaloriza un producto a través de experiencias sensoriales y formativas que invitan a la pausa, la presencia y el bienestar. Fundado en Zamora por una sommelier y tea blender apasionada por el arte del té y la cultura del mate, el proyecto combina tradición, sostenibilidad y estética contemporánea. Cada infusión, cata o taller está concebido como un ritual de reconexión con lo esencial: el sabor, el origen y el instante presente. La visita incluye: Recepción, visita guiada a puerta cerrada y taller EnZamoraTé , Taller de té, Matcha e Infusiones. Presentación de EnZamoraTé Cata, curiosidades y taller de elaboración de tés. Catering Completo / Vino español. Consumición,  agua, refresco o vino. Duración aproximada de 2 horas &nbsp; *Una vez realizada la compra, no se devolverá el importe de la misma salvo cancelación de la visita por parte del Museo del Aceite de Fermoselle.
URL:https://museodelaceitefermoselle.com/producto/1830-enzamorate-taller-de-te-matcha-e-infusiones-sabado/
LOCATION:C. Cuatro Calles, 32. 49220 - Fermoselle, Zamora
END:VEVENT
END:VCALENDAR
